BEGIN:VCALENDAR
VERSION:2.0
PRODID:-//la-ffa.org//NONSGML kigkonsult.se iCalcreator 2.30.10//
CALSCALE:GREGORIAN
METHOD:PUBLISH
UID:3d039c08-80ee-4209-a41b-4f0fbd088366
X-WR-CALDESC:State Officer Candidates and Nominating Committee members will
  arrive by Friday\, May 30 at 5:00pm. Interview rounds will take place on 
 Saturday and Sunday. The committee will deliberate beginning at 3:00pm on 
 Monday\, June 2. State Officer elections will take place at 8:00pm on Mond
 ay\, June 2.
X-WR-RELCALID:34b4de3fc092bc920b5b4636b40f75e5
X-WR-TIMEZONE:America/Chicago
BEGIN:VTIMEZONE
TZID:America/Chicago
BEGIN:STANDARD
TZNAME:CST
DTSTART:20241103T020000
TZOFFSETFROM:-0500
TZOFFSETTO:-0600
RDATE:20251102T020000
RDATE:20261101T020000
END:STANDARD
BEGIN:DAYLIGHT
TZNAME:CDT
DTSTART:20250309T020000
TZOFFSETFROM:-0600
TZOFFSETTO:-0500
RDATE:20260308T020000
END:DAYLIGHT
END:VTIMEZONE
BEGIN:VEVENT
UID:7340cd77-2ff3-404f-83a1-34a37b611886
DTSTAMP:20260421T140115Z
DESCRIPTION:State Officer Candidates and Nominating Committee members will 
 arrive by Friday\, May 30 at 5:00pm. Interview rounds will take place on S
 aturday and Sunday. The committee will deliberate beginning at 3:00pm on M
 onday\, June 2. State Officer elections will take place at 8:00pm on Monda
 y\, June 2.
DTSTART;TZID=America/Chicago:20250530T170000
DTEND;TZID=America/Chicago:20250602T200000
LOCATION:Hotel Bentley\, Alexandria
SUMMARY:State Nominating Committee
END:VEVENT
END:VCALENDAR
