BEGIN:VCALENDAR
VERSION:2.0
PRODID:-//la-ffa.org//NONSGML kigkonsult.se iCalcreator 2.30.10//
CALSCALE:GREGORIAN
METHOD:PUBLISH
UID:9f71f041-63ff-4d6e-9831-5d35bac97f4f
X-WR-CALDESC:Each FFA chapter is required to attend convention with all adv
 isors and at least two members.
X-WR-RELCALID:b101a34b01c840ef6c3ad9e079f947f1
X-WR-TIMEZONE:America/Chicago
BEGIN:VTIMEZONE
TZID:America/Chicago
BEGIN:STANDARD
TZNAME:CST
DTSTART:20241103T020000
TZOFFSETFROM:-0500
TZOFFSETTO:-0600
RDATE:20251102T020000
RDATE:20261101T020000
END:STANDARD
BEGIN:DAYLIGHT
TZNAME:CDT
DTSTART:20250309T020000
TZOFFSETFROM:-0600
TZOFFSETTO:-0500
RDATE:20260308T020000
END:DAYLIGHT
END:VTIMEZONE
BEGIN:VEVENT
UID:bc1b7edd-cf06-4322-bd86-b482e0456295
DTSTAMP:20260421T142159Z
DESCRIPTION:Each FFA chapter is required to attend convention with all advi
 sors and at least two members.
DTSTART;TZID=America/Chicago:20250602T050000
DTEND;TZID=America/Chicago:20250605T050001
LOCATION:Alexandria\, LA
SUMMARY:State FFA Convention and Expo
END:VEVENT
END:VCALENDAR
