BEGIN:VCALENDAR
VERSION:2.0
PRODID:-//la-ffa.org//NONSGML kigkonsult.se iCalcreator 2.30.10//
CALSCALE:GREGORIAN
METHOD:PUBLISH
UID:4e45d2fb-e74f-4282-aa54-d47d70a9d293
X-WR-CALDESC:Area Officer Candidates and Nominating Committee members will 
 report to the Claiborne Room of the Hotel Bentley at 10:00am on Tuesday\, 
 June 3. Interview rounds will take place on Tuesday and Wednesday. The com
 mittees will deliberate on the afternoon of Wednesday\, June 4. Area Offic
 er elections will take place after the State Degree Ceremony on Thursday\,
  June 5.
X-WR-RELCALID:10138153d182e18de1f53bc41d1159cd
X-WR-TIMEZONE:America/Chicago
BEGIN:VTIMEZONE
TZID:America/Chicago
BEGIN:STANDARD
TZNAME:CST
DTSTART:20241103T020000
TZOFFSETFROM:-0500
TZOFFSETTO:-0600
RDATE:20251102T020000
RDATE:20261101T020000
END:STANDARD
BEGIN:DAYLIGHT
TZNAME:CDT
DTSTART:20250309T020000
TZOFFSETFROM:-0600
TZOFFSETTO:-0500
RDATE:20260308T020000
END:DAYLIGHT
END:VTIMEZONE
BEGIN:VEVENT
UID:d06caac7-b283-4be0-b968-1b7f05444bf8
DTSTAMP:20260421T135927Z
DESCRIPTION:Area Officer Candidates and Nominating Committee members will r
 eport to the Claiborne Room of the Hotel Bentley at 10:00am on Tuesday\, J
 une 3. Interview rounds will take place on Tuesday and Wednesday. The comm
 ittees will deliberate on the afternoon of Wednesday\, June 4. Area Office
 r elections will take place after the State Degree Ceremony on Thursday\, 
 June 5.
DTSTART;TZID=America/Chicago:20250603T100000
DTEND;TZID=America/Chicago:20250605T100000
LOCATION:Hotel Bentley\, Alexandria
SUMMARY:Area Nominating Committees
END:VEVENT
END:VCALENDAR
