BEGIN:VCALENDAR
VERSION:2.0
PRODID:-//la-ffa.org//NONSGML kigkonsult.se iCalcreator 2.30.10//
CALSCALE:GREGORIAN
METHOD:PUBLISH
UID:70491ecb-fbd9-4f53-980a-610e0f952d20
X-WR-CALDESC:2025-2026 State Officer Team only
X-WR-RELCALID:3a2b33dffeaaea4bc4292c18cd2de674
X-WR-TIMEZONE:America/Chicago
BEGIN:VTIMEZONE
TZID:America/Chicago
BEGIN:STANDARD
TZNAME:CST
DTSTART:20241103T020000
TZOFFSETFROM:-0500
TZOFFSETTO:-0600
RDATE:20251102T020000
RDATE:20261101T020000
END:STANDARD
BEGIN:DAYLIGHT
TZNAME:CDT
DTSTART:20250309T020000
TZOFFSETFROM:-0600
TZOFFSETTO:-0500
RDATE:20260308T020000
END:DAYLIGHT
END:VTIMEZONE
BEGIN:VEVENT
UID:f7a104e7-9a03-4376-a15a-1e3667dcd5cf
DTSTAMP:20260421T142653Z
DESCRIPTION:2025-2026 State Officer Team only
DTSTART;TZID=America/Chicago:20250609T050000
DTEND;TZID=America/Chicago:20250613T050001
LOCATION:
SUMMARY:State Officer Basecamp
END:VEVENT
END:VCALENDAR
