BEGIN:VCALENDAR
VERSION:2.0
PRODID:-//la-ffa.org//NONSGML kigkonsult.se iCalcreator 2.30.10//
CALSCALE:GREGORIAN
METHOD:PUBLISH
UID:f995d921-ef28-4fcb-b852-5a245ebedf81
X-WR-CALDESC:All chapters must attend Leadership Camp with all advisors and
  at least two members.
X-WR-RELCALID:c15e6d40395e5c075d46a18fe70c2f42
X-WR-TIMEZONE:America/Chicago
BEGIN:VTIMEZONE
TZID:America/Chicago
BEGIN:STANDARD
TZNAME:CST
DTSTART:20241103T020000
TZOFFSETFROM:-0500
TZOFFSETTO:-0600
RDATE:20251102T020000
RDATE:20261101T020000
END:STANDARD
BEGIN:DAYLIGHT
TZNAME:CDT
DTSTART:20250309T020000
TZOFFSETFROM:-0600
TZOFFSETTO:-0500
RDATE:20260308T020000
END:DAYLIGHT
END:VTIMEZONE
BEGIN:VEVENT
UID:43c77320-970c-4534-9cdf-bfdb2e3c0c2e
DTSTAMP:20260421T142159Z
DESCRIPTION:All chapters must attend Leadership Camp with all advisors and 
 at least two members.
DTSTART;TZID=America/Chicago:20250624T050000
DTEND;TZID=America/Chicago:20250626T050001
LOCATION:
SUMMARY:Areas I and II Leadership Camp
END:VEVENT
END:VCALENDAR
