BEGIN:VCALENDAR
VERSION:2.0
PRODID:-//la-ffa.org//NONSGML kigkonsult.se iCalcreator 2.30.10//
CALSCALE:GREGORIAN
METHOD:PUBLISH
UID:fb69863a-ddd5-4979-9b44-f475e8960970
X-WR-CALDESC:All chapters must attend Leadership Camp with all advisors and
  at least two members.
X-WR-RELCALID:a33a6c84d9618ccc7e25e4ae7d471893
X-WR-TIMEZONE:America/Chicago
BEGIN:VTIMEZONE
TZID:America/Chicago
BEGIN:STANDARD
TZNAME:CST
DTSTART:20241103T020000
TZOFFSETFROM:-0500
TZOFFSETTO:-0600
RDATE:20251102T020000
RDATE:20261101T020000
END:STANDARD
BEGIN:DAYLIGHT
TZNAME:CDT
DTSTART:20250309T020000
TZOFFSETFROM:-0600
TZOFFSETTO:-0500
RDATE:20260308T020000
END:DAYLIGHT
END:VTIMEZONE
BEGIN:VEVENT
UID:9ce198f7-4a26-49f9-9238-05d409376528
DTSTAMP:20260421T122054Z
DESCRIPTION:All chapters must attend Leadership Camp with all advisors and 
 at least two members.
DTSTART;TZID=America/Chicago:20250709T050000
DTEND;TZID=America/Chicago:20250711T050001
LOCATION:
SUMMARY:Area IV Leadership Camp
END:VEVENT
END:VCALENDAR
