BEGIN:VCALENDAR
VERSION:2.0
PRODID:-//la-ffa.org//NONSGML kigkonsult.se iCalcreator 2.30.10//
CALSCALE:GREGORIAN
METHOD:PUBLISH
UID:80c6cae6-36ac-4255-8630-78d5bc42f15a
X-WR-CALDESC:2025-2026 State Officer Team only
X-WR-RELCALID:37602b6877a6cea791d334f6614b9438
X-WR-TIMEZONE:America/Chicago
BEGIN:VTIMEZONE
TZID:America/Chicago
BEGIN:STANDARD
TZNAME:CST
DTSTART:20241103T020000
TZOFFSETFROM:-0500
TZOFFSETTO:-0600
RDATE:20251102T020000
RDATE:20261101T020000
END:STANDARD
BEGIN:DAYLIGHT
TZNAME:CDT
DTSTART:20250309T020000
TZOFFSETFROM:-0600
TZOFFSETTO:-0500
RDATE:20260308T020000
END:DAYLIGHT
END:VTIMEZONE
BEGIN:VEVENT
UID:347f4516-600c-450b-8895-41c2633cf8ae
DTSTAMP:20260421T122458Z
DESCRIPTION:2025-2026 State Officer Team only
DTSTART;TZID=America/Chicago:20250714T050000
DTEND;TZID=America/Chicago:20250718T050001
LOCATION:Washington\, DC
SUMMARY:State Officer Summit
END:VEVENT
END:VCALENDAR
