BEGIN:VCALENDAR
VERSION:2.0
PRODID:-//la-ffa.org//NONSGML kigkonsult.se iCalcreator 2.30.10//
CALSCALE:GREGORIAN
METHOD:PUBLISH
UID:3d0c58c0-998c-4f41-9077-98055f6febce
X-WR-CALDESC:For Area Officers and Advisors only
X-WR-RELCALID:649a4623117c1bcfec60df5dd9abd802
X-WR-TIMEZONE:America/Chicago
BEGIN:VTIMEZONE
TZID:America/Chicago
BEGIN:STANDARD
TZNAME:CST
DTSTART:20241103T020000
TZOFFSETFROM:-0500
TZOFFSETTO:-0600
RDATE:20251102T020000
RDATE:20261101T020000
END:STANDARD
BEGIN:DAYLIGHT
TZNAME:CDT
DTSTART:20250309T020000
TZOFFSETFROM:-0600
TZOFFSETTO:-0500
RDATE:20260308T020000
END:DAYLIGHT
END:VTIMEZONE
BEGIN:VEVENT
UID:95fd5139-2989-42b4-9a3e-77996c178bf7
DTSTAMP:20260421T104739Z
DESCRIPTION:For Area Officers and Advisors only
DTSTART;TZID=America/Chicago:20250807T050000
DTEND;TZID=America/Chicago:20250809T050001
LOCATION:Camp Grant Walker
SUMMARY:Area Officer Training
END:VEVENT
END:VCALENDAR
