BEGIN:VCALENDAR
VERSION:2.0
PRODID:-//la-ffa.org//NONSGML kigkonsult.se iCalcreator 2.30.10//
CALSCALE:GREGORIAN
METHOD:PUBLISH
UID:b7e73e07-158e-41df-baf6-cd2b6852f727
X-WR-CALDESC:This conference will take students through three workshops. Th
 e first one will teach students about recruitment and how to recruit membe
 rs starting from the middle school level. Then students will learn about c
 ommunity service while completing a service project. Finally\, participant
 s will learn the importance of traditions\, and how to restore past tradit
 ions while also making new ones.\n\nLunch will be provided for the event\,
  with registration ($5/student) beginning at 9am\, students should wear sc
 hool appropriate clothing.\n\n\nIf you have any questions contact Ryan Ril
 ey at rriley@winnpsb.us. \n\n\nThis conference is for all members who want
  more involvement in FFA\, not only chapter officers. 
X-WR-RELCALID:f2003d7abc764a9dd3ca33d360136dc7
X-WR-TIMEZONE:America/Chicago
BEGIN:VTIMEZONE
TZID:America/Chicago
BEGIN:STANDARD
TZNAME:CST
DTSTART:20241103T020000
TZOFFSETFROM:-0500
TZOFFSETTO:-0600
RDATE:20251102T020000
RDATE:20261101T020000
END:STANDARD
BEGIN:DAYLIGHT
TZNAME:CDT
DTSTART:20250309T020000
TZOFFSETFROM:-0600
TZOFFSETTO:-0500
RDATE:20260308T020000
END:DAYLIGHT
END:VTIMEZONE
BEGIN:VEVENT
UID:57453532-91c0-4de1-b700-a6de33bc4f57
DTSTAMP:20260421T093321Z
DESCRIPTION:This conference will take students through three workshops. The
  first one will teach students about recruitment and how to recruit member
 s starting from the middle school level. Then students will learn about co
 mmunity service while completing a service project. Finally\, participants
  will learn the importance of traditions\, and how to restore past traditi
 ons while also making new ones.\n\nLunch will be provided for the event\, 
 with registration ($5/student) beginning at 9am\, students should wear sch
 ool appropriate clothing.\n\n\nIf you have any questions contact Ryan Rile
 y at rriley@winnpsb.us. \n\n\nThis conference is for all members who want 
 more involvement in FFA\, not only chapter officers. 
DTSTART;TZID=America/Chicago:20250908T100000
DTEND;TZID=America/Chicago:20250908T150000
LOCATION:Carver Elementary School in DeRidder
SUMMARY:Area II Conference
END:VEVENT
END:VCALENDAR
