BEGIN:VCALENDAR
VERSION:2.0
PRODID:-//la-ffa.org//NONSGML kigkonsult.se iCalcreator 2.30.10//
CALSCALE:GREGORIAN
METHOD:PUBLISH
UID:717f9df1-099b-4544-9cdb-429cd2e4f849
X-WR-CALDESC:Lunch will not be provided for the event\, but we will have wa
 ter and snacks available.\n\n\nThere is no cost to attend.\n\n\nIf you hav
 e any questions contact Ashlee Sebren at ashlee.sebren@delhicharterschool.
 org \n\n\nThis conference is for all members who want more involvement in 
 FFA\, not only chapter officers. 
X-WR-RELCALID:ec361e453d05c89c4c4414c809e8b963
X-WR-TIMEZONE:America/Chicago
BEGIN:VTIMEZONE
TZID:America/Chicago
BEGIN:STANDARD
TZNAME:CST
DTSTART:20241103T020000
TZOFFSETFROM:-0500
TZOFFSETTO:-0600
RDATE:20251102T020000
RDATE:20261101T020000
END:STANDARD
BEGIN:DAYLIGHT
TZNAME:CDT
DTSTART:20250309T020000
TZOFFSETFROM:-0600
TZOFFSETTO:-0500
RDATE:20260308T020000
RDATE:20270314T020000
END:DAYLIGHT
END:VTIMEZONE
BEGIN:VEVENT
UID:840ea0e5-6bdc-46c3-b2e7-86989aee5e5e
DTSTAMP:20260421T093209Z
DESCRIPTION:Lunch will not be provided for the event\, but we will have wat
 er and snacks available.\n\n\nThere is no cost to attend.\n\n\nIf you have
  any questions contact Ashlee Sebren at ashlee.sebren@delhicharterschool.o
 rg \n\n\nThis conference is for all members who want more involvement in F
 FA\, not only chapter officers. 
DTSTART;TZID=America/Chicago:20250912T090000
DTEND;TZID=America/Chicago:20250912T120000
LOCATION:Hanger at ULM
SUMMARY:Area I Conference
END:VEVENT
END:VCALENDAR
