BEGIN:VCALENDAR
VERSION:2.0
PRODID:-//la-ffa.org//NONSGML kigkonsult.se iCalcreator 2.30.10//
CALSCALE:GREGORIAN
METHOD:PUBLISH
UID:68720ffe-2b7f-4ca8-93ab-c56c06f95cb6
X-WR-CALDESC:Grant High School will be hosting the Grant Forestry Invitatio
 nal at Stuart Lake Recreation Area on Thursday\, September 18\, 2025.  Awa
 rds will be given to the Top Four Teams. High point individuals will be aw
 arded for Tree Identification\, Map Interpretation\, Timber Cruising\, Com
 pass/Pacing\, Forestry Equipment\, Disorders\, and Wood Products ID. The c
 ost for registration will be $8.00 per student. Lunch will be provided. If
  an invoice is needed for your school\, please email aiyana.bell@gpsb.org 
 so that one can be generated.  Payments will be accepted at contest regist
 ration.  Contest registration will open at 8:00 am and the contest will be
 gin at 9:00 am on September 18\, 2025. Please let Aiyana Bell know if you 
 have any questions.  Additionally\, please email aiyana.bell@gpsb.org by S
 eptember 1\, 2025 with the number of students you will be bringing so that
  she may get a headcount for food.
X-WR-RELCALID:d0387edada0fdd25e0e602e53b30bbd1
X-WR-TIMEZONE:America/Chicago
BEGIN:VTIMEZONE
TZID:America/Chicago
BEGIN:STANDARD
TZNAME:CST
DTSTART:20241103T020000
TZOFFSETFROM:-0500
TZOFFSETTO:-0600
RDATE:20251102T020000
RDATE:20261101T020000
END:STANDARD
BEGIN:DAYLIGHT
TZNAME:CDT
DTSTART:20250309T020000
TZOFFSETFROM:-0600
TZOFFSETTO:-0500
RDATE:20260308T020000
RDATE:20270314T020000
END:DAYLIGHT
END:VTIMEZONE
BEGIN:VEVENT
UID:79147c53-6ee4-4fcf-9c03-a8486ec1ee22
DTSTAMP:20260421T094421Z
DESCRIPTION:Grant High School will be hosting the Grant Forestry Invitation
 al at Stuart Lake Recreation Area on Thursday\, September 18\, 2025.  Awar
 ds will be given to the Top Four Teams. High point individuals will be awa
 rded for Tree Identification\, Map Interpretation\, Timber Cruising\, Comp
 ass/Pacing\, Forestry Equipment\, Disorders\, and Wood Products ID. The co
 st for registration will be $8.00 per student. Lunch will be provided. If 
 an invoice is needed for your school\, please email aiyana.bell@gpsb.org s
 o that one can be generated.  Payments will be accepted at contest registr
 ation.  Contest registration will open at 8:00 am and the contest will beg
 in at 9:00 am on September 18\, 2025. Please let Aiyana Bell know if you h
 ave any questions.  Additionally\, please email aiyana.bell@gpsb.org by Se
 ptember 1\, 2025 with the number of students you will be bringing so that 
 she may get a headcount for food.
DTSTART;TZID=America/Chicago:20250918T080000
DTEND;TZID=America/Chicago:20250918T140000
LOCATION:Stuart Lake
SUMMARY:Grant Forestry Invitational
END:VEVENT
END:VCALENDAR
