BEGIN:VCALENDAR
VERSION:2.0
PRODID:-//la-ffa.org//NONSGML kigkonsult.se iCalcreator 2.30.10//
CALSCALE:GREGORIAN
METHOD:PUBLISH
UID:d8eef406-670d-4bb1-a333-51cdcdc07e20
X-WR-CALDESC:The Area III Officers will be hosting an Area III Conference o
 n September 22nd at Crowley High School. Check-in will begin at 8:00am and
  the conference starts at 9:00am.\n\n\nThere is a $3 fee to attend but lun
 ch will be provided. \n\n\nChecks may be made payable to Louisiana FFA and
  mailed to our office\, or payment can be made on site.
X-WR-RELCALID:ac01b52a070563dcc50ce075c26ab9d7
X-WR-TIMEZONE:America/Chicago
BEGIN:VTIMEZONE
TZID:America/Chicago
BEGIN:STANDARD
TZNAME:CST
DTSTART:20241103T020000
TZOFFSETFROM:-0500
TZOFFSETTO:-0600
RDATE:20251102T020000
RDATE:20261101T020000
END:STANDARD
BEGIN:DAYLIGHT
TZNAME:CDT
DTSTART:20250309T020000
TZOFFSETFROM:-0600
TZOFFSETTO:-0500
RDATE:20260308T020000
RDATE:20270314T020000
END:DAYLIGHT
END:VTIMEZONE
BEGIN:VEVENT
UID:e4ae9f2b-3356-4dff-b479-4e7b27e7298f
DTSTAMP:20260421T093443Z
DESCRIPTION:The Area III Officers will be hosting an Area III Conference on
  September 22nd at Crowley High School. Check-in will begin at 8:00am and 
 the conference starts at 9:00am.\n\n\nThere is a $3 fee to attend but lunc
 h will be provided. \n\n\nChecks may be made payable to Louisiana FFA and 
 mailed to our office\, or payment can be made on site.
DTSTART;TZID=America/Chicago:20250922T050000
DTEND;TZID=America/Chicago:20250922T050001
LOCATION:Crowley High School
SUMMARY:Area III Conference
END:VEVENT
END:VCALENDAR
