BEGIN:VCALENDAR
VERSION:2.0
PRODID:-//la-ffa.org//NONSGML kigkonsult.se iCalcreator 2.30.10//
CALSCALE:GREGORIAN
METHOD:PUBLISH
UID:2b254ff4-cb61-4b6e-848f-79cb0bf4b81b
X-WR-CALDESC:Please see the flyer for registration instructions and if you 
 have any questions please reach out to Mr. Bill Thompson or Mrs. Bronwen T
 heriot for more information. \n
X-WR-RELCALID:870529fbd8eb18826638865686e015bc
X-WR-TIMEZONE:America/Chicago
BEGIN:VTIMEZONE
TZID:America/Chicago
BEGIN:STANDARD
TZNAME:CST
DTSTART:20241103T020000
TZOFFSETFROM:-0500
TZOFFSETTO:-0600
RDATE:20251102T020000
RDATE:20261101T020000
END:STANDARD
BEGIN:DAYLIGHT
TZNAME:CDT
DTSTART:20250309T020000
TZOFFSETFROM:-0600
TZOFFSETTO:-0500
RDATE:20260308T020000
RDATE:20270314T020000
END:DAYLIGHT
END:VTIMEZONE
BEGIN:VEVENT
UID:a1c7a5e0-11ab-444a-8d47-3e92bd1c8c22
DTSTAMP:20260421T094131Z
DESCRIPTION:Please see the flyer for registration instructions and if you h
 ave any questions please reach out to Mr. Bill Thompson or Mrs. Bronwen Th
 eriot for more information. \n
DTSTART;TZID=America/Chicago:20250925T050000
DTEND;TZID=America/Chicago:20250925T050001
LOCATION:Iowa High school Ag Shop
SUMMARY:Yellow Jacket Ag Tools Invitational
END:VEVENT
END:VCALENDAR
