BEGIN:VCALENDAR
VERSION:2.0
PRODID:-//la-ffa.org//NONSGML kigkonsult.se iCalcreator 2.30.10//
CALSCALE:GREGORIAN
METHOD:PUBLISH
UID:362330b9-8605-4117-8474-f765a8234cd3
X-WR-CALDESC:
X-WR-RELCALID:7d6c03d4520005657ab5ad462517fe58
X-WR-TIMEZONE:America/Chicago
BEGIN:VTIMEZONE
TZID:America/Chicago
BEGIN:STANDARD
TZNAME:CST
DTSTART:20241103T020000
TZOFFSETFROM:-0500
TZOFFSETTO:-0600
RDATE:20251102T020000
RDATE:20261101T020000
END:STANDARD
BEGIN:DAYLIGHT
TZNAME:CDT
DTSTART:20250309T020000
TZOFFSETFROM:-0600
TZOFFSETTO:-0500
RDATE:20260308T020000
RDATE:20270314T020000
END:DAYLIGHT
END:VTIMEZONE
BEGIN:VEVENT
UID:734da107-06d6-4ea4-be97-9f37a43d1a7f
DTSTAMP:20260421T094131Z
DESCRIPTION:
DTSTART;TZID=America/Chicago:20250926T050000
DTEND;TZID=America/Chicago:20250926T050001
LOCATION:
SUMMARY:District 2 Forestry CDE
END:VEVENT
END:VCALENDAR
