BEGIN:VCALENDAR
VERSION:2.0
PRODID:-//la-ffa.org//NONSGML kigkonsult.se iCalcreator 2.30.10//
CALSCALE:GREGORIAN
METHOD:PUBLISH
UID:6a3bc6c6-d00d-4d3e-bc52-e0eb6b86d549
X-WR-CALDESC:
X-WR-RELCALID:3a9fe66e54b6ffaecc915791078d41bf
X-WR-TIMEZONE:America/Chicago
BEGIN:VTIMEZONE
TZID:America/Chicago
BEGIN:STANDARD
TZNAME:CST
DTSTART:20241103T020000
TZOFFSETFROM:-0500
TZOFFSETTO:-0600
RDATE:20251102T020000
RDATE:20261101T020000
END:STANDARD
BEGIN:DAYLIGHT
TZNAME:CDT
DTSTART:20250309T020000
TZOFFSETFROM:-0600
TZOFFSETTO:-0500
RDATE:20260308T020000
RDATE:20270314T020000
END:DAYLIGHT
END:VTIMEZONE
BEGIN:VEVENT
UID:807cb774-2c9d-499c-8978-9a4efd0ebc94
DTSTAMP:20260421T094111Z
DESCRIPTION:
DTSTART;TZID=America/Chicago:20250926T050000
DTEND;TZID=America/Chicago:20250926T050001
LOCATION:Grand Lake High School
SUMMARY:Greenhand Field Day
END:VEVENT
END:VCALENDAR
