BEGIN:VCALENDAR
VERSION:2.0
PRODID:-//la-ffa.org//NONSGML kigkonsult.se iCalcreator 2.30.10//
CALSCALE:GREGORIAN
METHOD:PUBLISH
UID:fe899c0d-6266-499f-84ff-95c6995b1820
X-WR-CALDESC:Check-in will begin at 8:00am and the conference starts at 9:0
 0am. Wrap up fo the conference will conclude at 2:00pm. \n\n\nAt the confe
 rence\, members can look forward to engaging with the Area IV team through
  interactive workshops focused on livestock exhibition and management\, ov
 ercoming failure\, and developing leadership and personal growth.\n\n\nThe
 re is a $3 fee to attend but lunch will be provided. The area officers are
  also asking for each member attending to bring an old coat and / or a non
  perishable food item. \n\n\nThe theme is Cowboys vs. Princesses! Dress up
  in your best cowboy gear or princess outfit and join the fun! If you’d ra
 ther keep it simple\, just wear an FFA shirt (your chapter shirt if you ha
 ve one) with jeans.\n\n\nChecks may be made payable to Louisiana FFA and m
 ailed to our office\, or payment can be made on site.
X-WR-RELCALID:b5054def7c23fc21653103f16febf4ba
X-WR-TIMEZONE:America/Chicago
BEGIN:VTIMEZONE
TZID:America/Chicago
BEGIN:STANDARD
TZNAME:CST
DTSTART:20241103T020000
TZOFFSETFROM:-0500
TZOFFSETTO:-0600
RDATE:20251102T020000
RDATE:20261101T020000
END:STANDARD
BEGIN:DAYLIGHT
TZNAME:CDT
DTSTART:20250309T020000
TZOFFSETFROM:-0600
TZOFFSETTO:-0500
RDATE:20260308T020000
RDATE:20270314T020000
END:DAYLIGHT
END:VTIMEZONE
BEGIN:VEVENT
UID:42fdec0e-55ed-4c44-ba34-0f4d36bd5624
DTSTAMP:20260421T093641Z
DESCRIPTION:Check-in will begin at 8:00am and the conference starts at 9:00
 am. Wrap up fo the conference will conclude at 2:00pm. \n\n\nAt the confer
 ence\, members can look forward to engaging with the Area IV team through 
 interactive workshops focused on livestock exhibition and management\, ove
 rcoming failure\, and developing leadership and personal growth.\n\n\nTher
 e is a $3 fee to attend but lunch will be provided. The area officers are 
 also asking for each member attending to bring an old coat and / or a non 
 perishable food item. \n\n\nThe theme is Cowboys vs. Princesses! Dress up 
 in your best cowboy gear or princess outfit and join the fun! If you’d rat
 her keep it simple\, just wear an FFA shirt (your chapter shirt if you hav
 e one) with jeans.\n\n\nChecks may be made payable to Louisiana FFA and ma
 iled to our office\, or payment can be made on site.
DTSTART;TZID=America/Chicago:20250927T080000
DTEND;TZID=America/Chicago:20250927T140000
LOCATION:Slidell High School (1033 Ninth Street) 
SUMMARY:Area IV Conference
END:VEVENT
END:VCALENDAR
