BEGIN:VCALENDAR
VERSION:2.0
PRODID:-//la-ffa.org//NONSGML kigkonsult.se iCalcreator 2.30.10//
CALSCALE:GREGORIAN
METHOD:PUBLISH
UID:b431f873-588b-400b-ae99-bb91bf355a9c
X-WR-CALDESC:The St. Landry Soil and Water Conservation District will be ho
 sting the Invitational FFA Land Judging Career Development Event. The cont
 est will be held on Wednesday\, October 1\, 2025\, at the University of Lo
 uisiana at Lafayette - Cade Farm. Registration will begin at 8:00 am with 
 competition beginning at 9:00 am. There will be awards for the top three t
 eams as well as individual high scorer. Also\, lunch will be provided for 
 those in attendance. There will be a registration fee of $15 per team. Ple
 ase make checks payable to the following: St. Landry SWCD 5832 I-49 N. Ser
 vice Road\, Ste. 2 Opelousas\, LA 70570. Payment will be accepted the day 
 of the event. The deadline for team registration will by Friday\, Setember
  26\, 2025.
X-WR-RELCALID:758ccc69b8b52a72649f54a3af9e1774
X-WR-TIMEZONE:America/Chicago
BEGIN:VTIMEZONE
TZID:America/Chicago
BEGIN:STANDARD
TZNAME:CST
DTSTART:20241103T020000
TZOFFSETFROM:-0500
TZOFFSETTO:-0600
RDATE:20251102T020000
RDATE:20261101T020000
END:STANDARD
BEGIN:DAYLIGHT
TZNAME:CDT
DTSTART:20250309T020000
TZOFFSETFROM:-0600
TZOFFSETTO:-0500
RDATE:20260308T020000
RDATE:20270314T020000
END:DAYLIGHT
END:VTIMEZONE
BEGIN:VEVENT
UID:2efbde0e-acc3-44b0-90e8-ef1fa8b81fee
DTSTAMP:20260421T080308Z
DESCRIPTION:The St. Landry Soil and Water Conservation District will be hos
 ting the Invitational FFA Land Judging Career Development Event. The conte
 st will be held on Wednesday\, October 1\, 2025\, at the University of Lou
 isiana at Lafayette - Cade Farm. Registration will begin at 8:00 am with c
 ompetition beginning at 9:00 am. There will be awards for the top three te
 ams as well as individual high scorer. Also\, lunch will be provided for t
 hose in attendance. There will be a registration fee of $15 per team. Plea
 se make checks payable to the following: St. Landry SWCD 5832 I-49 N. Serv
 ice Road\, Ste. 2 Opelousas\, LA 70570. Payment will be accepted the day o
 f the event. The deadline for team registration will by Friday\, Setember 
 26\, 2025.
DTSTART;TZID=America/Chicago:20251001T050000
DTEND;TZID=America/Chicago:20251001T050001
LOCATION:Cade Farm
SUMMARY:UL-Lafayette Land Judging Invitational
END:VEVENT
END:VCALENDAR
