BEGIN:VCALENDAR
VERSION:2.0
PRODID:-//la-ffa.org//NONSGML kigkonsult.se iCalcreator 2.30.10//
CALSCALE:GREGORIAN
METHOD:PUBLISH
UID:9f64534d-08cd-4903-a62a-ec5b933c7729
X-WR-CALDESC:Check-in begins at 8:00am\nEvent begins at 9:00am\n\nRegistrat
 ion can be found on Judging Card
X-WR-RELCALID:5fbdf7ba191fbd94f7019cb8bd6511fe
X-WR-TIMEZONE:America/Chicago
BEGIN:VTIMEZONE
TZID:America/Chicago
BEGIN:STANDARD
TZNAME:CST
DTSTART:20241103T020000
TZOFFSETFROM:-0500
TZOFFSETTO:-0600
RDATE:20251102T020000
RDATE:20261101T020000
END:STANDARD
BEGIN:DAYLIGHT
TZNAME:CDT
DTSTART:20250309T020000
TZOFFSETFROM:-0600
TZOFFSETTO:-0500
RDATE:20260308T020000
RDATE:20270314T020000
END:DAYLIGHT
END:VTIMEZONE
BEGIN:VEVENT
UID:d4d49f83-4696-4496-9531-fe88a3e9b92c
DTSTAMP:20260421T080226Z
DESCRIPTION:Check-in begins at 8:00am\nEvent begins at 9:00am\n\nRegistrati
 on can be found on Judging Card
DTSTART;TZID=America/Chicago:20251007T080000
DTEND;TZID=America/Chicago:20251007T140000
LOCATION:Camp Grant Walker 3000 Hwy 8\, Pollock\, LA 71467
SUMMARY:Area II Forestry CDE
END:VEVENT
END:VCALENDAR
