BEGIN:VCALENDAR
VERSION:2.0
PRODID:-//la-ffa.org//NONSGML kigkonsult.se iCalcreator 2.30.10//
CALSCALE:GREGORIAN
METHOD:PUBLISH
UID:08f4c85f-ca27-4400-90e5-6c1e58e51ecb
X-WR-CALDESC:Check-in begins at 8:00am\nEvent begins at 9:00am\n\nRegistrat
 ion can be found on Judging Card
X-WR-RELCALID:7ca36a13d467fc1ea56a824221356873
X-WR-TIMEZONE:America/Chicago
BEGIN:VTIMEZONE
TZID:America/Chicago
BEGIN:STANDARD
TZNAME:CST
DTSTART:20241103T020000
TZOFFSETFROM:-0500
TZOFFSETTO:-0600
RDATE:20251102T020000
RDATE:20261101T020000
END:STANDARD
BEGIN:DAYLIGHT
TZNAME:CDT
DTSTART:20250309T020000
TZOFFSETFROM:-0600
TZOFFSETTO:-0500
RDATE:20260308T020000
RDATE:20270314T020000
END:DAYLIGHT
END:VTIMEZONE
BEGIN:VEVENT
UID:f98fd9d1-aaad-46f2-9de3-f4693572eed1
DTSTAMP:20260421T080002Z
DESCRIPTION:Check-in begins at 8:00am\nEvent begins at 9:00am\n\nRegistrati
 on can be found on Judging Card
DTSTART;TZID=America/Chicago:20251009T080000
DTEND;TZID=America/Chicago:20251009T140000
LOCATION:Lee Memorial Forest\, 21139 Lee Memorial Drive\, Franklinton\, LA 
 70438
SUMMARY:Area IV Forestry CDE
END:VEVENT
END:VCALENDAR
