BEGIN:VCALENDAR
VERSION:2.0
PRODID:-//la-ffa.org//NONSGML kigkonsult.se iCalcreator 2.30.10//
CALSCALE:GREGORIAN
METHOD:PUBLISH
UID:ab4fe906-0053-4276-8394-4bc9d309a3d6
X-WR-CALDESC:
X-WR-RELCALID:c1de7aa316687cdc1f7bf140a4c5a141
X-WR-TIMEZONE:America/Chicago
BEGIN:VTIMEZONE
TZID:America/Chicago
BEGIN:STANDARD
TZNAME:CST
DTSTART:20241103T020000
TZOFFSETFROM:-0500
TZOFFSETTO:-0600
RDATE:20251102T020000
RDATE:20261101T020000
END:STANDARD
BEGIN:DAYLIGHT
TZNAME:CDT
DTSTART:20250309T020000
TZOFFSETFROM:-0600
TZOFFSETTO:-0500
RDATE:20260308T020000
RDATE:20270314T020000
END:DAYLIGHT
END:VTIMEZONE
BEGIN:VEVENT
UID:abd7d12c-e1ec-48f4-9bae-37d40e95a1df
DTSTAMP:20260421T075619Z
DESCRIPTION:
DTSTART;TZID=America/Chicago:20251021T050000
DTEND;TZID=America/Chicago:20251021T050001
LOCATION:Hill Farm Research Station\, 11959 Hwy 9\, Homer\, LA 71040
SUMMARY:State Forestry/State Land Evaluation
END:VEVENT
END:VCALENDAR
