BEGIN:VCALENDAR
VERSION:2.0
PRODID:-//la-ffa.org//NONSGML kigkonsult.se iCalcreator 2.30.10//
CALSCALE:GREGORIAN
METHOD:PUBLISH
UID:9052eaa1-09dc-4183-a3b1-23ac587aba3f
X-WR-CALDESC:
X-WR-RELCALID:a191f1f66346074d7f88f9137ea7d09d
X-WR-TIMEZONE:America/Chicago
BEGIN:VTIMEZONE
TZID:America/Chicago
BEGIN:STANDARD
TZNAME:CST
DTSTART:20241103T020000
TZOFFSETFROM:-0500
TZOFFSETTO:-0600
RDATE:20251102T020000
RDATE:20261101T020000
END:STANDARD
BEGIN:DAYLIGHT
TZNAME:CDT
DTSTART:20250309T020000
TZOFFSETFROM:-0600
TZOFFSETTO:-0500
RDATE:20260308T020000
RDATE:20270314T020000
END:DAYLIGHT
END:VTIMEZONE
BEGIN:VEVENT
UID:8695d100-9966-4bf3-a2a4-057e7ae81517
DTSTAMP:20260421T060556Z
DESCRIPTION:
DTSTART;TZID=America/Chicago:20251027T050000
DTEND;TZID=America/Chicago:20251101T050001
LOCATION:Indianapolis\, IN
SUMMARY:National FFA Convention
END:VEVENT
END:VCALENDAR
