BEGIN:VCALENDAR
VERSION:2.0
PRODID:-//la-ffa.org//NONSGML kigkonsult.se iCalcreator 2.30.10//
CALSCALE:GREGORIAN
METHOD:PUBLISH
UID:bf9087d2-5f8f-4549-b7ae-8181e7b881b5
X-WR-CALDESC:
X-WR-RELCALID:1cf0a3aabf7da582f1b3352b08fec3be
X-WR-TIMEZONE:America/Chicago
BEGIN:VTIMEZONE
TZID:America/Chicago
BEGIN:STANDARD
TZNAME:CST
DTSTART:20241103T020000
TZOFFSETFROM:-0500
TZOFFSETTO:-0600
RDATE:20251102T020000
RDATE:20261101T020000
END:STANDARD
BEGIN:DAYLIGHT
TZNAME:CDT
DTSTART:20250309T020000
TZOFFSETFROM:-0600
TZOFFSETTO:-0500
RDATE:20260308T020000
RDATE:20270314T020000
END:DAYLIGHT
END:VTIMEZONE
BEGIN:VEVENT
UID:3f14c83d-ea56-4abf-a5b5-04dfe632211a
DTSTAMP:20260421T060902Z
DESCRIPTION:
DTSTART;TZID=America/Chicago:20251103T050000
DTEND;TZID=America/Chicago:20251103T050001
LOCATION:
SUMMARY:Deadline to Submit FFA Rosters\, Dues\, and Chapter/Foundation Fees
END:VEVENT
END:VCALENDAR
