BEGIN:VCALENDAR
VERSION:2.0
PRODID:-//la-ffa.org//NONSGML kigkonsult.se iCalcreator 2.30.10//
CALSCALE:GREGORIAN
METHOD:PUBLISH
UID:96a6c5bf-82b2-4c70-8465-35207c4bd9c4
X-WR-CALDESC:Check-in begins at 8:00am\nEvent begins at 9:00am\n\nRegistrat
 ion can be found on Judging Card
X-WR-RELCALID:6e8d2d6112fec0baedf738e4d02f5124
X-WR-TIMEZONE:America/Chicago
BEGIN:VTIMEZONE
TZID:America/Chicago
BEGIN:STANDARD
TZNAME:CST
DTSTART:20251102T020000
TZOFFSETFROM:-0500
TZOFFSETTO:-0600
RDATE:20261101T020000
END:STANDARD
BEGIN:DAYLIGHT
TZNAME:CDT
DTSTART:20250309T020000
TZOFFSETFROM:-0600
TZOFFSETTO:-0500
RDATE:20260308T020000
RDATE:20270314T020000
END:DAYLIGHT
END:VTIMEZONE
BEGIN:VEVENT
UID:6268e223-2266-4fef-9b51-667df6ad7834
DTSTAMP:20260421T060837Z
DESCRIPTION:Check-in begins at 8:00am\nEvent begins at 9:00am\n\nRegistrati
 on can be found on Judging Card
DTSTART;TZID=America/Chicago:20251107T050000
DTEND;TZID=America/Chicago:20251107T050001
LOCATION:LA Tech Lomax Hall\, 1401 Reese Drive\, Ruston\, LA 71270
SUMMARY:State Agronomy and State ENR CDEs
END:VEVENT
END:VCALENDAR
