BEGIN:VCALENDAR
VERSION:2.0
PRODID:-//la-ffa.org//NONSGML kigkonsult.se iCalcreator 2.30.10//
CALSCALE:GREGORIAN
METHOD:PUBLISH
UID:4c6e0c9a-322c-4307-814d-1da0493d77f7
X-WR-CALDESC:
X-WR-RELCALID:3e24ac4b8c1a9d6e2fc4bc9890548641
X-WR-TIMEZONE:America/Chicago
BEGIN:VTIMEZONE
TZID:America/Chicago
BEGIN:STANDARD
TZNAME:CST
DTSTART:20251102T020000
TZOFFSETFROM:-0500
TZOFFSETTO:-0600
RDATE:20261101T020000
END:STANDARD
BEGIN:DAYLIGHT
TZNAME:CDT
DTSTART:20250309T020000
TZOFFSETFROM:-0600
TZOFFSETTO:-0500
RDATE:20260308T020000
RDATE:20270314T020000
END:DAYLIGHT
END:VTIMEZONE
BEGIN:VEVENT
UID:9bf1aa0f-3427-4ae5-828e-318033df3ccb
DTSTAMP:20260421T060321Z
DESCRIPTION:
DTSTART;TZID=America/Chicago:20251112T050000
DTEND;TZID=America/Chicago:20251112T050001
LOCATION:
SUMMARY:District 7 LDEs
END:VEVENT
END:VCALENDAR
