BEGIN:VCALENDAR
VERSION:2.0
PRODID:-//la-ffa.org//NONSGML kigkonsult.se iCalcreator 2.30.10//
CALSCALE:GREGORIAN
METHOD:PUBLISH
UID:850ee2c9-3f23-42e3-9362-b7cd25e046a9
X-WR-CALDESC:
X-WR-RELCALID:2a3c56fb678f5809d348f0a5954da3eb
X-WR-TIMEZONE:America/Chicago
BEGIN:VTIMEZONE
TZID:America/Chicago
BEGIN:STANDARD
TZNAME:CST
DTSTART:20251102T020000
TZOFFSETFROM:-0500
TZOFFSETTO:-0600
RDATE:20261101T020000
END:STANDARD
BEGIN:DAYLIGHT
TZNAME:CDT
DTSTART:20250309T020000
TZOFFSETFROM:-0600
TZOFFSETTO:-0500
RDATE:20260308T020000
RDATE:20270314T020000
END:DAYLIGHT
END:VTIMEZONE
BEGIN:VEVENT
UID:a3a5ff93-d4f1-4f70-8345-d82b65d2ae98
DTSTAMP:20260421T060332Z
DESCRIPTION:
DTSTART;TZID=America/Chicago:20251112T050000
DTEND;TZID=America/Chicago:20251112T050001
LOCATION:
SUMMARY:District 15 LDEs
END:VEVENT
END:VCALENDAR
