BEGIN:VCALENDAR
VERSION:2.0
PRODID:-//la-ffa.org//NONSGML kigkonsult.se iCalcreator 2.30.10//
CALSCALE:GREGORIAN
METHOD:PUBLISH
UID:9085abd7-c796-415b-98e8-c428bd0250e6
X-WR-CALDESC:
X-WR-RELCALID:3ba2d0d97937ec218bf03919384c9ba7
X-WR-TIMEZONE:America/Chicago
BEGIN:VTIMEZONE
TZID:America/Chicago
BEGIN:STANDARD
TZNAME:CST
DTSTART:20251102T020000
TZOFFSETFROM:-0500
TZOFFSETTO:-0600
RDATE:20261101T020000
END:STANDARD
BEGIN:DAYLIGHT
TZNAME:CDT
DTSTART:20250309T020000
TZOFFSETFROM:-0600
TZOFFSETTO:-0500
RDATE:20260308T020000
RDATE:20270314T020000
END:DAYLIGHT
END:VTIMEZONE
BEGIN:VEVENT
UID:84be3819-47f5-4edd-bce6-b6f13e7240d9
DTSTAMP:20260421T060454Z
DESCRIPTION:
DTSTART;TZID=America/Chicago:20251113T050000
DTEND;TZID=America/Chicago:20251113T050001
LOCATION:
SUMMARY:District 8 LDEs 
END:VEVENT
END:VCALENDAR
