BEGIN:VCALENDAR
VERSION:2.0
PRODID:-//la-ffa.org//NONSGML kigkonsult.se iCalcreator 2.30.10//
CALSCALE:GREGORIAN
METHOD:PUBLISH
UID:2de0fd96-a945-405e-ab32-e3a3b0bee4a6
X-WR-CALDESC:Date and Location\nThe 2025 Bash on the Bayou will be held on 
 Saturday\, November 15 in the 4-H Mini Farm. Doors will open at 10:00am.\n
 \n\nCost\nThe cost to attend the event is $5 per person\; tailgate shirts 
 and football game tickets must be purchased separately.\n\n\nParking\nTher
 e will be no reserved parking for cars and trucks. A limited number of par
 king passes will be available for school buses.\n\n\nFood and Drink\nFree 
 food and drinks will be available for the first 250 people. Doors to the 4
 -H Mini Farm will open at 10:00am and food will be served beginning at 11:
 00am.\n\n\nShirts and Game Tickets\nYou will have the option of purchasing
  shirts at the end of this registration. Game tickets are available starti
 ng at $35 per ticket. You will have the option to purchase tickets at the 
 end of this registration.\n\n\nActivities\nFootball games will be played o
 n the screens in the Mini Farm and fun activities will be available outsid
 e under the pavilion. 
X-WR-RELCALID:b1e4dc2a08679ac23c09b0aa470f1ca3
X-WR-TIMEZONE:America/Chicago
BEGIN:VTIMEZONE
TZID:America/Chicago
BEGIN:STANDARD
TZNAME:CST
DTSTART:20251102T020000
TZOFFSETFROM:-0500
TZOFFSETTO:-0600
RDATE:20261101T020000
END:STANDARD
BEGIN:DAYLIGHT
TZNAME:CDT
DTSTART:20250309T020000
TZOFFSETFROM:-0600
TZOFFSETTO:-0500
RDATE:20260308T020000
RDATE:20270314T020000
END:DAYLIGHT
END:VTIMEZONE
BEGIN:VEVENT
UID:52aef25e-b16c-4d28-9163-cc40e7a380c6
DTSTAMP:20260421T060856Z
DESCRIPTION:Date and Location\nThe 2025 Bash on the Bayou will be held on S
 aturday\, November 15 in the 4-H Mini Farm. Doors will open at 10:00am.\n
 \n\nCost\nThe cost to attend the event is $5 per person\; tailgate shirts 
 and football game tickets must be purchased separately.\n\n\nParking\nTher
 e will be no reserved parking for cars and trucks. A limited number of par
 king passes will be available for school buses.\n\n\nFood and Drink\nFree 
 food and drinks will be available for the first 250 people. Doors to the 4
 -H Mini Farm will open at 10:00am and food will be served beginning at 11:
 00am.\n\n\nShirts and Game Tickets\nYou will have the option of purchasing
  shirts at the end of this registration. Game tickets are available starti
 ng at $35 per ticket. You will have the option to purchase tickets at the 
 end of this registration.\n\n\nActivities\nFootball games will be played o
 n the screens in the Mini Farm and fun activities will be available outsid
 e under the pavilion. 
DTSTART;TZID=America/Chicago:20251115T050000
DTEND;TZID=America/Chicago:20251115T050001
LOCATION:
SUMMARY:FFA/4-H Bash on the Bayou (LSU vs. Arkansas)
END:VEVENT
END:VCALENDAR
