BEGIN:VCALENDAR
VERSION:2.0
PRODID:-//la-ffa.org//NONSGML kigkonsult.se iCalcreator 2.30.10//
CALSCALE:GREGORIAN
METHOD:PUBLISH
UID:7461e459-6a04-498a-b590-9e8980321aa5
X-WR-CALDESC:
X-WR-RELCALID:b8526263105e6631f6a0bcac1c4ad220
X-WR-TIMEZONE:America/Chicago
BEGIN:VTIMEZONE
TZID:America/Chicago
BEGIN:STANDARD
TZNAME:CST
DTSTART:20251102T020000
TZOFFSETFROM:-0500
TZOFFSETTO:-0600
RDATE:20261101T020000
END:STANDARD
BEGIN:DAYLIGHT
TZNAME:CDT
DTSTART:20250309T020000
TZOFFSETFROM:-0600
TZOFFSETTO:-0500
RDATE:20260308T020000
RDATE:20270314T020000
END:DAYLIGHT
END:VTIMEZONE
BEGIN:VEVENT
UID:970e87c1-463a-43a6-bd0b-7a7c68cb6bf6
DTSTAMP:20260421T060418Z
DESCRIPTION:
DTSTART;TZID=America/Chicago:20251119T050000
DTEND;TZID=America/Chicago:20251119T050001
LOCATION:
SUMMARY:District 11 LDEs
END:VEVENT
END:VCALENDAR
