BEGIN:VCALENDAR
VERSION:2.0
PRODID:-//la-ffa.org//NONSGML kigkonsult.se iCalcreator 2.30.10//
CALSCALE:GREGORIAN
METHOD:PUBLISH
UID:80aa85dd-4bc1-48d2-b6f3-3d7c3d2b64bc
X-WR-CALDESC:
X-WR-RELCALID:865feffbcdc8458d746655bd7e026fd9
X-WR-TIMEZONE:America/Chicago
BEGIN:VTIMEZONE
TZID:America/Chicago
BEGIN:STANDARD
TZNAME:CST
DTSTART:20251102T020000
TZOFFSETFROM:-0500
TZOFFSETTO:-0600
RDATE:20261101T020000
END:STANDARD
BEGIN:DAYLIGHT
TZNAME:CDT
DTSTART:20250309T020000
TZOFFSETFROM:-0600
TZOFFSETTO:-0500
RDATE:20260308T020000
RDATE:20270314T020000
END:DAYLIGHT
END:VTIMEZONE
BEGIN:VEVENT
UID:1a330146-2813-4d2b-af85-005747ece1b9
DTSTAMP:20260421T060321Z
DESCRIPTION:
DTSTART;TZID=America/Chicago:20251119T050000
DTEND;TZID=America/Chicago:20251119T050001
LOCATION:
SUMMARY:District 13 LDEs
END:VEVENT
END:VCALENDAR
