BEGIN:VCALENDAR
VERSION:2.0
PRODID:-//la-ffa.org//NONSGML kigkonsult.se iCalcreator 2.30.10//
CALSCALE:GREGORIAN
METHOD:PUBLISH
UID:cd21dbdf-3e8c-4664-92ac-e7af9f5e4ee1
X-WR-CALDESC:
X-WR-RELCALID:2b1d5403deeefacf62fd1ae7ec572ef2
X-WR-TIMEZONE:America/Chicago
BEGIN:VTIMEZONE
TZID:America/Chicago
BEGIN:STANDARD
TZNAME:CST
DTSTART:20251102T020000
TZOFFSETFROM:-0500
TZOFFSETTO:-0600
RDATE:20261101T020000
END:STANDARD
BEGIN:DAYLIGHT
TZNAME:CDT
DTSTART:20250309T020000
TZOFFSETFROM:-0600
TZOFFSETTO:-0500
RDATE:20260308T020000
RDATE:20270314T020000
END:DAYLIGHT
END:VTIMEZONE
BEGIN:VEVENT
UID:9849d5d1-84b9-4ca7-9ff1-eb3ed354b43f
DTSTAMP:20260421T060718Z
DESCRIPTION:
DTSTART;TZID=America/Chicago:20251120T050000
DTEND;TZID=America/Chicago:20251120T050001
LOCATION:
SUMMARY:District 2\, 3\, 5\, 6\, 9\, &10 LDEs
END:VEVENT
END:VCALENDAR
