BEGIN:VCALENDAR
VERSION:2.0
PRODID:-//la-ffa.org//NONSGML kigkonsult.se iCalcreator 2.30.10//
CALSCALE:GREGORIAN
METHOD:PUBLISH
UID:266ee165-4bd1-4f74-a9c5-3f0e1251a1f3
X-WR-CALDESC:
X-WR-RELCALID:9c2c54dfa0fddfd5baabb4b9dd155dfb
X-WR-TIMEZONE:America/Chicago
BEGIN:VTIMEZONE
TZID:America/Chicago
BEGIN:STANDARD
TZNAME:CST
DTSTART:20251102T020000
TZOFFSETFROM:-0500
TZOFFSETTO:-0600
RDATE:20261101T020000
END:STANDARD
BEGIN:DAYLIGHT
TZNAME:CDT
DTSTART:20250309T020000
TZOFFSETFROM:-0600
TZOFFSETTO:-0500
RDATE:20260308T020000
RDATE:20270314T020000
END:DAYLIGHT
END:VTIMEZONE
BEGIN:VEVENT
UID:e76c3f15-ed5b-4b7f-ae61-5d3d4f458c5d
DTSTAMP:20260421T060332Z
DESCRIPTION:
DTSTART;TZID=America/Chicago:20251121T050000
DTEND;TZID=America/Chicago:20251121T050001
LOCATION:
SUMMARY:District 1 LDEs
END:VEVENT
END:VCALENDAR
