BEGIN:VCALENDAR
VERSION:2.0
PRODID:-//la-ffa.org//NONSGML kigkonsult.se iCalcreator 2.30.10//
CALSCALE:GREGORIAN
METHOD:PUBLISH
UID:81a7d63f-4e2b-4682-8784-1668691ec049
X-WR-CALDESC:Check-in begins at 8:00am\nEvent begins at 9:00am\n\nRegistrat
 ion can be found on Judging Card
X-WR-RELCALID:f53d245d5ec4744d378e0cd0ed7cb038
X-WR-TIMEZONE:America/Chicago
BEGIN:VTIMEZONE
TZID:America/Chicago
BEGIN:STANDARD
TZNAME:CST
DTSTART:20251102T020000
TZOFFSETFROM:-0500
TZOFFSETTO:-0600
RDATE:20261101T020000
END:STANDARD
BEGIN:DAYLIGHT
TZNAME:CDT
DTSTART:20250309T020000
TZOFFSETFROM:-0600
TZOFFSETTO:-0500
RDATE:20260308T020000
RDATE:20270314T020000
END:DAYLIGHT
END:VTIMEZONE
BEGIN:VEVENT
UID:bc19ba14-f3fe-4953-8b06-5837e1bb3a34
DTSTAMP:20260421T041421Z
DESCRIPTION:Check-in begins at 8:00am\nEvent begins at 9:00am\n\nRegistrati
 on can be found on Judging Card
DTSTART;TZID=America/Chicago:20251204T080000
DTEND;TZID=America/Chicago:20251204T150000
LOCATION:Northwestern State University\, 350 Sam Sibley Drive\, Natchitoche
 s\, LA 71457
SUMMARY:Area II LDEs
END:VEVENT
END:VCALENDAR
