BEGIN:VCALENDAR
VERSION:2.0
PRODID:-//la-ffa.org//NONSGML kigkonsult.se iCalcreator 2.30.10//
CALSCALE:GREGORIAN
METHOD:PUBLISH
UID:cbf44e0a-a89f-47f5-bf7c-2bcc93934322
X-WR-CALDESC:
X-WR-RELCALID:54ee9a5975869b11259cb4b4f6c4e3e1
X-WR-TIMEZONE:America/Chicago
BEGIN:VTIMEZONE
TZID:America/Chicago
BEGIN:STANDARD
TZNAME:CST
DTSTART:20251102T020000
TZOFFSETFROM:-0500
TZOFFSETTO:-0600
RDATE:20261101T020000
END:STANDARD
BEGIN:DAYLIGHT
TZNAME:CDT
DTSTART:20250309T020000
TZOFFSETFROM:-0600
TZOFFSETTO:-0500
RDATE:20260308T020000
RDATE:20270314T020000
END:DAYLIGHT
END:VTIMEZONE
BEGIN:VEVENT
UID:5ac3afd9-2c05-4f47-a03f-b1bb2484165f
DTSTAMP:20260421T041341Z
DESCRIPTION:
DTSTART;TZID=America/Chicago:20251204T080000
DTEND;TZID=America/Chicago:20251204T150000
LOCATION:McNeese Gayle Hall\, 4205 Ryan Street\, Lake Charles\, LA 70605
SUMMARY:Area III LDEs
END:VEVENT
END:VCALENDAR
