BEGIN:VCALENDAR
VERSION:2.0
PRODID:-//la-ffa.org//NONSGML kigkonsult.se iCalcreator 2.30.10//
CALSCALE:GREGORIAN
METHOD:PUBLISH
UID:8d5421ae-5ba8-44ca-b9ce-5dd0e75d90c6
X-WR-CALDESC:Check-in begins at 8:00am\nEvent begins at 9:00am\n\nRegistrat
 ion can be found on Judging Card
X-WR-RELCALID:e33d50e291820759c7c1c9873e513c9a
X-WR-TIMEZONE:America/Chicago
BEGIN:VTIMEZONE
TZID:America/Chicago
BEGIN:STANDARD
TZNAME:CST
DTSTART:20251102T020000
TZOFFSETFROM:-0500
TZOFFSETTO:-0600
RDATE:20261101T020000
END:STANDARD
BEGIN:DAYLIGHT
TZNAME:CDT
DTSTART:20250309T020000
TZOFFSETFROM:-0600
TZOFFSETTO:-0500
RDATE:20260308T020000
RDATE:20270314T020000
END:DAYLIGHT
END:VTIMEZONE
BEGIN:VEVENT
UID:ef355d73-c462-47f9-b4c7-4a5cf0c400c9
DTSTAMP:20260421T041428Z
DESCRIPTION:Check-in begins at 8:00am\nEvent begins at 9:00am\n\nRegistrati
 on can be found on Judging Card
DTSTART;TZID=America/Chicago:20251205T080000
DTEND;TZID=America/Chicago:20251205T150000
LOCATION:Fletcher Community College\, 1407 LA-311\, Schriever\, LA 70395
SUMMARY:Area IV LDEs
END:VEVENT
END:VCALENDAR
