BEGIN:VCALENDAR
VERSION:2.0
PRODID:-//la-ffa.org//NONSGML kigkonsult.se iCalcreator 2.30.10//
CALSCALE:GREGORIAN
METHOD:PUBLISH
UID:871d7919-7504-46ce-89ac-6de23e55c64d
X-WR-CALDESC:
X-WR-RELCALID:fbe94be24f40686afe7dbe833fd9ec09
X-WR-TIMEZONE:America/Chicago
BEGIN:VTIMEZONE
TZID:America/Chicago
BEGIN:STANDARD
TZNAME:CST
DTSTART:20251102T020000
TZOFFSETFROM:-0500
TZOFFSETTO:-0600
RDATE:20261101T020000
END:STANDARD
BEGIN:DAYLIGHT
TZNAME:CDT
DTSTART:20250309T020000
TZOFFSETFROM:-0600
TZOFFSETTO:-0500
RDATE:20260308T020000
RDATE:20270314T020000
END:DAYLIGHT
END:VTIMEZONE
BEGIN:VEVENT
UID:e93580bf-e8c5-4600-9433-ea3c23f277b6
DTSTAMP:20260421T041214Z
DESCRIPTION:
DTSTART;TZID=America/Chicago:20251209T050000
DTEND;TZID=America/Chicago:20251209T050001
LOCATION:LA Tech Reese Hall\, 1401 Reese Drive\, Ruston\, LA 71270
SUMMARY:Area I LDEs
END:VEVENT
END:VCALENDAR
