BEGIN:VCALENDAR
VERSION:2.0
PRODID:-//la-ffa.org//NONSGML kigkonsult.se iCalcreator 2.30.10//
CALSCALE:GREGORIAN
METHOD:PUBLISH
UID:62c6d46f-4a26-47ec-8af0-a5e908654d60
X-WR-CALDESC:Check-in begins at 8:00am\nEvent begins at 9:00am\n\nManuscrip
 ts will be uploaded on Judging Card
X-WR-RELCALID:e088281f18a7c3679e54c0ae4a68a131
X-WR-TIMEZONE:America/Chicago
BEGIN:VTIMEZONE
TZID:America/Chicago
BEGIN:STANDARD
TZNAME:CST
DTSTART:20251102T020000
TZOFFSETFROM:-0500
TZOFFSETTO:-0600
RDATE:20261101T020000
END:STANDARD
BEGIN:DAYLIGHT
TZNAME:CDT
DTSTART:20250309T020000
TZOFFSETFROM:-0600
TZOFFSETTO:-0500
RDATE:20260308T020000
RDATE:20270314T020000
END:DAYLIGHT
END:VTIMEZONE
BEGIN:VEVENT
UID:709c4fd3-46a4-43e2-9dff-32965b3aed70
DTSTAMP:20260421T041057Z
DESCRIPTION:Check-in begins at 8:00am\nEvent begins at 9:00am\n\nManuscript
 s will be uploaded on Judging Card
DTSTART;TZID=America/Chicago:20251216T080000
DTEND;TZID=America/Chicago:20251216T150000
LOCATION:McNeese Gayle Hall\, 4205 Ryan Street\, Lake Charles\, LA 70605
SUMMARY:State LDEs
END:VEVENT
END:VCALENDAR
