BEGIN:VCALENDAR
VERSION:2.0
PRODID:-//la-ffa.org//NONSGML kigkonsult.se iCalcreator 2.30.10//
CALSCALE:GREGORIAN
METHOD:PUBLISH
UID:728b7a74-53db-45c9-9b9a-34bc84fe2bc2
X-WR-CALDESC:
X-WR-RELCALID:8f5c7aa39cfc8d3a428264f725a95191
X-WR-TIMEZONE:America/Chicago
BEGIN:VTIMEZONE
TZID:America/Chicago
BEGIN:STANDARD
TZNAME:CST
DTSTART:20251102T020000
TZOFFSETFROM:-0500
TZOFFSETTO:-0600
RDATE:20261101T020000
END:STANDARD
BEGIN:DAYLIGHT
TZNAME:CDT
DTSTART:20250309T020000
TZOFFSETFROM:-0600
TZOFFSETTO:-0500
RDATE:20260308T020000
RDATE:20270314T020000
END:DAYLIGHT
END:VTIMEZONE
BEGIN:VEVENT
UID:0e98db1c-86fd-43fe-84c8-06ca8918d705
DTSTAMP:20260421T023656Z
DESCRIPTION:
DTSTART;TZID=America/Chicago:20260109T050000
DTEND;TZID=America/Chicago:20260109T050001
LOCATION:
SUMMARY: Mid-Year PD (South Louisiana)
END:VEVENT
END:VCALENDAR
