BEGIN:VCALENDAR
VERSION:2.0
PRODID:-//la-ffa.org//NONSGML kigkonsult.se iCalcreator 2.30.10//
CALSCALE:GREGORIAN
METHOD:PUBLISH
UID:aeeeb2c8-d2cc-4b7d-a6f7-f37e4d27b5d0
X-WR-CALDESC:
X-WR-RELCALID:3d6b8da20e6fa93466aaf90400c375ca
X-WR-TIMEZONE:America/Chicago
BEGIN:VTIMEZONE
TZID:America/Chicago
BEGIN:STANDARD
TZNAME:CST
DTSTART:20251102T020000
TZOFFSETFROM:-0500
TZOFFSETTO:-0600
RDATE:20261101T020000
END:STANDARD
BEGIN:DAYLIGHT
TZNAME:CDT
DTSTART:20250309T020000
TZOFFSETFROM:-0600
TZOFFSETTO:-0500
RDATE:20260308T020000
RDATE:20270314T020000
END:DAYLIGHT
END:VTIMEZONE
BEGIN:VEVENT
UID:177dda20-85ac-4bf7-841e-4c72c725ae82
DTSTAMP:20260421T024831Z
DESCRIPTION:
DTSTART;TZID=America/Chicago:20260112T050000
DTEND;TZID=America/Chicago:20260112T050001
LOCATION:
SUMMARY:Mid-Year PD (North Louisiana)
END:VEVENT
END:VCALENDAR
