BEGIN:VCALENDAR
VERSION:2.0
PRODID:-//la-ffa.org//NONSGML kigkonsult.se iCalcreator 2.30.10//
CALSCALE:GREGORIAN
METHOD:PUBLISH
UID:d54a2360-5447-4988-b221-920a72234f60
X-WR-CALDESC:Applications will be submitted via Formsite.
X-WR-RELCALID:745d54e936ae446f5c61dab7a2c9aa76
X-WR-TIMEZONE:America/Chicago
BEGIN:VTIMEZONE
TZID:America/Chicago
BEGIN:STANDARD
TZNAME:CST
DTSTART:20251102T020000
TZOFFSETFROM:-0500
TZOFFSETTO:-0600
RDATE:20261101T020000
END:STANDARD
BEGIN:DAYLIGHT
TZNAME:CDT
DTSTART:20250309T020000
TZOFFSETFROM:-0600
TZOFFSETTO:-0500
RDATE:20260308T020000
RDATE:20270314T020000
END:DAYLIGHT
END:VTIMEZONE
BEGIN:VEVENT
UID:deba249d-c90e-4a3b-a62d-6553e9458fdf
DTSTAMP:20260421T023926Z
DESCRIPTION:Applications will be submitted via Formsite.
DTSTART;TZID=America/Chicago:20260115T050000
DTEND;TZID=America/Chicago:20260115T050001
LOCATION:
SUMMARY:Deadline to Submit Governor's and Superintendent's Awards
END:VEVENT
END:VCALENDAR
