BEGIN:VCALENDAR
VERSION:2.0
PRODID:-//la-ffa.org//NONSGML kigkonsult.se iCalcreator 2.30.10//
CALSCALE:GREGORIAN
METHOD:PUBLISH
UID:a1c5addf-a6d9-4848-b593-753a6d3f7cd6
X-WR-CALDESC:Records for these awards must end on December 31\, 2025. All a
 pplications are submitted electronically through AET.
X-WR-RELCALID:9863d51e5c039b0fdad813f97dbc872d
X-WR-TIMEZONE:America/Chicago
BEGIN:VTIMEZONE
TZID:America/Chicago
BEGIN:STANDARD
TZNAME:CST
DTSTART:20251102T020000
TZOFFSETFROM:-0500
TZOFFSETTO:-0600
RDATE:20261101T020000
END:STANDARD
BEGIN:DAYLIGHT
TZNAME:CDT
DTSTART:20250309T020000
TZOFFSETFROM:-0600
TZOFFSETTO:-0500
RDATE:20260308T020000
RDATE:20270314T020000
END:DAYLIGHT
END:VTIMEZONE
BEGIN:VEVENT
UID:35c68cd2-bd29-4a33-b1df-5f2298242f4b
DTSTAMP:20260421T005026Z
DESCRIPTION:Records for these awards must end on December 31\, 2025. All ap
 plications are submitted electronically through AET.
DTSTART;TZID=America/Chicago:20260206T050000
DTEND;TZID=America/Chicago:20260206T050001
LOCATION:
SUMMARY:Deadline to Submit State Degrees\, Star Awards\, and Senior Profici
 ency Awards
END:VEVENT
END:VCALENDAR
