BEGIN:VCALENDAR
VERSION:2.0
PRODID:-//la-ffa.org//NONSGML kigkonsult.se iCalcreator 2.30.10//
CALSCALE:GREGORIAN
METHOD:PUBLISH
UID:f34d601a-5ff9-4042-8e6d-3a45096ee34f
X-WR-CALDESC:
X-WR-RELCALID:b0faf3b34ab789b8fdcd1393ad813882
X-WR-TIMEZONE:America/Chicago
BEGIN:VTIMEZONE
TZID:America/Chicago
BEGIN:STANDARD
TZNAME:CST
DTSTART:20251102T020000
TZOFFSETFROM:-0500
TZOFFSETTO:-0600
RDATE:20261101T020000
END:STANDARD
BEGIN:DAYLIGHT
TZNAME:CDT
DTSTART:20250309T020000
TZOFFSETFROM:-0600
TZOFFSETTO:-0500
RDATE:20260308T020000
RDATE:20270314T020000
END:DAYLIGHT
END:VTIMEZONE
BEGIN:VEVENT
UID:17af4205-d8ff-40ae-a7dc-3d11234c13d1
DTSTAMP:20260421T004650Z
DESCRIPTION:
DTSTART;TZID=America/Chicago:20260211T050000
DTEND;TZID=America/Chicago:20260211T050001
LOCATION:
SUMMARY:District 10 Mechanics CDEs
END:VEVENT
END:VCALENDAR
