BEGIN:VCALENDAR
VERSION:2.0
PRODID:-//la-ffa.org//NONSGML kigkonsult.se iCalcreator 2.30.10//
CALSCALE:GREGORIAN
METHOD:PUBLISH
UID:fd01a2f9-a1af-4ae6-b7ef-e30478de5d63
X-WR-CALDESC:We are happy to announce that we will be hosting the 5th Annua
 l Walker High School Invitational Mechanics Contest on February 11th.  We 
 will have Welding\, Small Engines\, Electricity\, and the Ag Tools and Mat
 erials Contest. This contest is for training and to give the students some
  extra experience. You will be allowed 2 teams for each contest just like 
 a regular FFA Contest.  However\, due to space we will cap registration at
  20 teams per event.  Since there is a cap on the number of teams\, you mu
 st pre-register by February 5th and registration will close once the 20-te
 am mark is reached.  The cost of the contest will be $5 per student.  The 
 contest will start at 9:00 and lunch will be provided.\n\n We will follow 
 all rules for each event.  Each team is responsible for bringing all mater
 ials and tools needed for each contest they are participating in.  Engines
  will be bugged onsite the morning of the contest.\n\nPlease email me with
  registration or if you have any questions about the contest.
X-WR-RELCALID:a4c85e0b65068629545c94931d0a1ba7
X-WR-TIMEZONE:America/Chicago
BEGIN:VTIMEZONE
TZID:America/Chicago
BEGIN:STANDARD
TZNAME:CST
DTSTART:20251102T020000
TZOFFSETFROM:-0500
TZOFFSETTO:-0600
RDATE:20261101T020000
END:STANDARD
BEGIN:DAYLIGHT
TZNAME:CDT
DTSTART:20250309T020000
TZOFFSETFROM:-0600
TZOFFSETTO:-0500
RDATE:20260308T020000
RDATE:20270314T020000
END:DAYLIGHT
END:VTIMEZONE
BEGIN:VEVENT
UID:240ce34e-69ea-4096-a3a3-eac34563f8bc
DTSTAMP:20260421T004515Z
DESCRIPTION:We are happy to announce that we will be hosting the 5th Annual
  Walker High School Invitational Mechanics Contest on February 11th.  We w
 ill have Welding\, Small Engines\, Electricity\, and the Ag Tools and Mate
 rials Contest. This contest is for training and to give the students some 
 extra experience. You will be allowed 2 teams for each contest just like a
  regular FFA Contest.  However\, due to space we will cap registration at 
 20 teams per event.  Since there is a cap on the number of teams\, you mus
 t pre-register by February 5th and registration will close once the 20-tea
 m mark is reached.  The cost of the contest will be $5 per student.  The c
 ontest will start at 9:00 and lunch will be provided.\n\n We will follow a
 ll rules for each event.  Each team is responsible for bringing all materi
 als and tools needed for each contest they are participating in.  Engines 
 will be bugged onsite the morning of the contest.\n\nPlease email me with 
 registration or if you have any questions about the contest.
DTSTART;TZID=America/Chicago:20260211T050000
DTEND;TZID=America/Chicago:20260211T050001
LOCATION:
SUMMARY:Walker Ag Mechanics Invitational
END:VEVENT
END:VCALENDAR
