BEGIN:VCALENDAR
VERSION:2.0
PRODID:-//la-ffa.org//NONSGML kigkonsult.se iCalcreator 2.30.10//
CALSCALE:GREGORIAN
METHOD:PUBLISH
UID:f69b90d9-9617-4218-b1f3-a9cedb1910b1
X-WR-CALDESC:
X-WR-RELCALID:adcb2c87084b56a42db01f6f7a171146
X-WR-TIMEZONE:America/Chicago
BEGIN:VTIMEZONE
TZID:America/Chicago
BEGIN:STANDARD
TZNAME:CST
DTSTART:20251102T020000
TZOFFSETFROM:-0500
TZOFFSETTO:-0600
RDATE:20261101T020000
END:STANDARD
BEGIN:DAYLIGHT
TZNAME:CDT
DTSTART:20250309T020000
TZOFFSETFROM:-0600
TZOFFSETTO:-0500
RDATE:20260308T020000
RDATE:20270314T020000
END:DAYLIGHT
END:VTIMEZONE
BEGIN:VEVENT
UID:9bf72a39-172f-429d-87f6-39c97e336717
DTSTAMP:20260421T004736Z
DESCRIPTION:
DTSTART;TZID=America/Chicago:20260212T050000
DTEND;TZID=America/Chicago:20260212T050001
LOCATION:
SUMMARY:District 15 Mechanics CDEs
END:VEVENT
END:VCALENDAR
