BEGIN:VCALENDAR
VERSION:2.0
PRODID:-//la-ffa.org//NONSGML kigkonsult.se iCalcreator 2.30.10//
CALSCALE:GREGORIAN
METHOD:PUBLISH
UID:93925702-879a-4c6f-bac2-2a8ad0753be2
X-WR-CALDESC:
X-WR-RELCALID:f8401238055cf80050e913db8dcb93b9
X-WR-TIMEZONE:America/Chicago
BEGIN:VTIMEZONE
TZID:America/Chicago
BEGIN:STANDARD
TZNAME:CST
DTSTART:20251102T020000
TZOFFSETFROM:-0500
TZOFFSETTO:-0600
RDATE:20261101T020000
END:STANDARD
BEGIN:DAYLIGHT
TZNAME:CDT
DTSTART:20250309T020000
TZOFFSETFROM:-0600
TZOFFSETTO:-0500
RDATE:20260308T020000
RDATE:20270314T020000
END:DAYLIGHT
END:VTIMEZONE
BEGIN:VEVENT
UID:dc7a476c-518f-48e2-bdfd-45af61912879
DTSTAMP:20260421T004858Z
DESCRIPTION:
DTSTART;TZID=America/Chicago:20260212T050000
DTEND;TZID=America/Chicago:20260212T050001
LOCATION:
SUMMARY:12      District 12 Mechanics CDEs
END:VEVENT
END:VCALENDAR
