BEGIN:VCALENDAR
VERSION:2.0
PRODID:-//la-ffa.org//NONSGML kigkonsult.se iCalcreator 2.30.10//
CALSCALE:GREGORIAN
METHOD:PUBLISH
UID:899cbd0f-afe0-4851-ac0f-9b4c722f00d4
X-WR-CALDESC:Start time- 9:00am
X-WR-RELCALID:9fa383865ab8b59972bfa3699c98f460
X-WR-TIMEZONE:America/Chicago
BEGIN:VTIMEZONE
TZID:America/Chicago
BEGIN:STANDARD
TZNAME:CST
DTSTART:20251102T020000
TZOFFSETFROM:-0500
TZOFFSETTO:-0600
RDATE:20261101T020000
END:STANDARD
BEGIN:DAYLIGHT
TZNAME:CDT
DTSTART:20250309T020000
TZOFFSETFROM:-0600
TZOFFSETTO:-0500
RDATE:20260308T020000
RDATE:20270314T020000
END:DAYLIGHT
END:VTIMEZONE
BEGIN:VEVENT
UID:f713c9cd-ad37-48be-879d-45f09039be3b
DTSTAMP:20260421T004405Z
DESCRIPTION:Start time- 9:00am
DTSTART;TZID=America/Chicago:20260213T050000
DTEND;TZID=America/Chicago:20260213T050001
LOCATION:Delta CC in Winnsboro
SUMMARY:District 4 Welding CDE
END:VEVENT
END:VCALENDAR
