BEGIN:VCALENDAR
VERSION:2.0
PRODID:-//la-ffa.org//NONSGML kigkonsult.se iCalcreator 2.30.10//
CALSCALE:GREGORIAN
METHOD:PUBLISH
UID:1e0d05b0-7852-4331-81ca-5022f8d11e43
X-WR-CALDESC:
X-WR-RELCALID:2f70c4576113d8a810ac0dd45cb53540
X-WR-TIMEZONE:America/Chicago
BEGIN:VTIMEZONE
TZID:America/Chicago
BEGIN:STANDARD
TZNAME:CST
DTSTART:20251102T020000
TZOFFSETFROM:-0500
TZOFFSETTO:-0600
RDATE:20261101T020000
END:STANDARD
BEGIN:DAYLIGHT
TZNAME:CDT
DTSTART:20250309T020000
TZOFFSETFROM:-0600
TZOFFSETTO:-0500
RDATE:20260308T020000
RDATE:20270314T020000
END:DAYLIGHT
END:VTIMEZONE
BEGIN:VEVENT
UID:44d462bd-eb06-483f-ad41-1b456ef6f883
DTSTAMP:20260421T005026Z
DESCRIPTION:
DTSTART;TZID=America/Chicago:20260214T050000
DTEND;TZID=America/Chicago:20260221T050001
LOCATION:
SUMMARY:LSU AgCenter State Livestock Show
END:VEVENT
END:VCALENDAR
