BEGIN:VCALENDAR
VERSION:2.0
PRODID:-//la-ffa.org//NONSGML kigkonsult.se iCalcreator 2.30.10//
CALSCALE:GREGORIAN
METHOD:PUBLISH
UID:1e719f1e-494d-4d28-beb1-1e128c5624b2
X-WR-CALDESC:
X-WR-RELCALID:adc925c30ea2fb510f35465b62f103f4
X-WR-TIMEZONE:America/Chicago
BEGIN:VTIMEZONE
TZID:America/Chicago
BEGIN:STANDARD
TZNAME:CST
DTSTART:20251102T020000
TZOFFSETFROM:-0500
TZOFFSETTO:-0600
RDATE:20261101T020000
END:STANDARD
BEGIN:DAYLIGHT
TZNAME:CDT
DTSTART:20250309T020000
TZOFFSETFROM:-0600
TZOFFSETTO:-0500
RDATE:20260308T020000
RDATE:20270314T020000
END:DAYLIGHT
END:VTIMEZONE
BEGIN:VEVENT
UID:30d64bfd-3715-4a65-b872-ee84973b6e71
DTSTAMP:20260421T004736Z
DESCRIPTION:
DTSTART;TZID=America/Chicago:20260223T050000
DTEND;TZID=America/Chicago:20260223T050001
LOCATION:
SUMMARY:23      District 14 Mechanics CDEs
END:VEVENT
END:VCALENDAR
