BEGIN:VCALENDAR
VERSION:2.0
PRODID:-//la-ffa.org//NONSGML kigkonsult.se iCalcreator 2.30.10//
CALSCALE:GREGORIAN
METHOD:PUBLISH
UID:19f54372-3d13-471b-b950-e9d29fe43eba
X-WR-CALDESC:
X-WR-RELCALID:a663de6dab9c7a270528ec23947cd13f
X-WR-TIMEZONE:America/Chicago
BEGIN:VTIMEZONE
TZID:America/Chicago
BEGIN:STANDARD
TZNAME:CST
DTSTART:20251102T020000
TZOFFSETFROM:-0500
TZOFFSETTO:-0600
RDATE:20261101T020000
END:STANDARD
BEGIN:DAYLIGHT
TZNAME:CDT
DTSTART:20250309T020000
TZOFFSETFROM:-0600
TZOFFSETTO:-0500
RDATE:20260308T020000
RDATE:20270314T020000
END:DAYLIGHT
END:VTIMEZONE
BEGIN:VEVENT
UID:2e1aec08-4b0e-44d8-98a5-0a8e3e4ecaec
DTSTAMP:20260421T004827Z
DESCRIPTION:
DTSTART;TZID=America/Chicago:20260224T050000
DTEND;TZID=America/Chicago:20260224T050001
LOCATION:
SUMMARY:District 5\, 9\, & 13 Mechanics CDEs
END:VEVENT
END:VCALENDAR
