BEGIN:VCALENDAR
VERSION:2.0
PRODID:-//la-ffa.org//NONSGML kigkonsult.se iCalcreator 2.30.10//
CALSCALE:GREGORIAN
METHOD:PUBLISH
UID:15a952ec-2d70-4aec-bf5e-f684a14f8e45
X-WR-CALDESC:Assumption Parish Ag Complex\nPRIOR REGISTRATION IS REQUIRED! 
 There will be NO ONSITE REGISTRATION. Will take payments on site.\n\n\n
X-WR-RELCALID:5f5f48645c10e0572b80b6712f32c854
X-WR-TIMEZONE:America/Chicago
BEGIN:VTIMEZONE
TZID:America/Chicago
BEGIN:STANDARD
TZNAME:CST
DTSTART:20251102T020000
TZOFFSETFROM:-0500
TZOFFSETTO:-0600
RDATE:20261101T020000
END:STANDARD
BEGIN:DAYLIGHT
TZNAME:CDT
DTSTART:20250309T020000
TZOFFSETFROM:-0600
TZOFFSETTO:-0500
RDATE:20260308T020000
RDATE:20270314T020000
END:DAYLIGHT
END:VTIMEZONE
BEGIN:VEVENT
UID:ef2e3b55-faea-421c-a1dd-7e068b3b7e1c
DTSTAMP:20260421T004904Z
DESCRIPTION:Assumption Parish Ag Complex\nPRIOR REGISTRATION IS REQUIRED! T
 here will be NO ONSITE REGISTRATION. Will take payments on site.\n\n\n
DTSTART;TZID=America/Chicago:20260225T050000
DTEND;TZID=America/Chicago:20260225T050001
LOCATION:119 Robin St. \, Napoleonville \, LA 70390 US
SUMMARY:Annual Bayou Regions Spring CDE Invitational
END:VEVENT
END:VCALENDAR
