BEGIN:VCALENDAR
VERSION:2.0
PRODID:-//la-ffa.org//NONSGML kigkonsult.se iCalcreator 2.30.10//
CALSCALE:GREGORIAN
METHOD:PUBLISH
UID:395bb8cb-99dd-4caa-8f8d-b0f124c00958
X-WR-CALDESC:
X-WR-RELCALID:24866e16a8d0fd19d06dcb0174506f87
X-WR-TIMEZONE:America/Chicago
BEGIN:VTIMEZONE
TZID:America/Chicago
BEGIN:STANDARD
TZNAME:CST
DTSTART:20251102T020000
TZOFFSETFROM:-0500
TZOFFSETTO:-0600
RDATE:20261101T020000
END:STANDARD
BEGIN:DAYLIGHT
TZNAME:CDT
DTSTART:20250309T020000
TZOFFSETFROM:-0600
TZOFFSETTO:-0500
RDATE:20260308T020000
RDATE:20270314T020000
END:DAYLIGHT
END:VTIMEZONE
BEGIN:VEVENT
UID:50e55ceb-2681-4285-b532-cb28464f5d07
DTSTAMP:20260421T004546Z
DESCRIPTION:
DTSTART;TZID=America/Chicago:20260225T050000
DTEND;TZID=America/Chicago:20260225T050001
LOCATION:
SUMMARY:District 6 Mechanics CDEs
END:VEVENT
END:VCALENDAR
